BEGIN:VCALENDAR
VERSION:2.0
PRODID:-//ARIANE RACINE - ECPv6.15.15//NONSGML v1.0//EN
CALSCALE:GREGORIAN
METHOD:PUBLISH
X-WR-CALNAME:ARIANE RACINE
X-ORIGINAL-URL:https://arianeracine.ch
X-WR-CALDESC:Évènements pour ARIANE RACINE
REFRESH-INTERVAL;VALUE=DURATION:PT1H
X-Robots-Tag:noindex
X-PUBLISHED-TTL:PT1H
BEGIN:VTIMEZONE
TZID:Europe/Zurich
BEGIN:DAYLIGHT
TZOFFSETFROM:+0100
TZOFFSETTO:+0200
TZNAME:CEST
DTSTART:20230326T010000
END:DAYLIGHT
BEGIN:STANDARD
TZOFFSETFROM:+0200
TZOFFSETTO:+0100
TZNAME:CET
DTSTART:20231029T010000
END:STANDARD
BEGIN:DAYLIGHT
TZOFFSETFROM:+0100
TZOFFSETTO:+0200
TZNAME:CEST
DTSTART:20240331T010000
END:DAYLIGHT
BEGIN:STANDARD
TZOFFSETFROM:+0200
TZOFFSETTO:+0100
TZNAME:CET
DTSTART:20241027T010000
END:STANDARD
BEGIN:DAYLIGHT
TZOFFSETFROM:+0100
TZOFFSETTO:+0200
TZNAME:CEST
DTSTART:20250330T010000
END:DAYLIGHT
BEGIN:STANDARD
TZOFFSETFROM:+0200
TZOFFSETTO:+0100
TZNAME:CET
DTSTART:20251026T010000
END:STANDARD
END:VTIMEZONE
BEGIN:VEVENT
DTSTART;TZID=Europe/Zurich:20240223T080000
DTEND;TZID=Europe/Zurich:20240223T170000
DTSTAMP:20260421T181925
CREATED:20240223T134303Z
LAST-MODIFIED:20240223T134405Z
UID:940-1708675200-1708707600@arianeracine.ch
SUMMARY:Une question ? Un conte par téléphone
DESCRIPTION:Existe-t-il autant de contes que de questions sur la vie ?\nPourquoi pas…Allô Madame Lune: 23 février au soir. Des contes la veille de la pleine lune de février.
URL:https://arianeracine.ch/date/une-question-un-conte-par-telephone/
CATEGORIES:Madame Lune
ATTACH;FMTTYPE=image/png:https://arianeracine.ch/wp-content/uploads/2023/12/ARIANERACINE_LUNE_RESEAUX_SOCIAUX_071223_02_ARIANERACINE-OFFRES-42.png
END:VEVENT
END:VCALENDAR